BEGIN:VCALENDAR
VERSION:2.0
PRODID:-//FAIRsorgen! - ECPv6.15.20//NONSGML v1.0//EN
CALSCALE:GREGORIAN
METHOD:PUBLISH
X-WR-CALNAME:FAIRsorgen!
X-ORIGINAL-URL:https://fairsorgen.at
X-WR-CALDESC:Veranstaltungen für FAIRsorgen!
REFRESH-INTERVAL;VALUE=DURATION:PT1H
X-Robots-Tag:noindex
X-PUBLISHED-TTL:PT1H
BEGIN:VTIMEZONE
TZID:Europe/Vienna
BEGIN:DAYLIGHT
TZOFFSETFROM:+0100
TZOFFSETTO:+0200
TZNAME:CEST
DTSTART:20250330T010000
END:DAYLIGHT
BEGIN:STANDARD
TZOFFSETFROM:+0200
TZOFFSETTO:+0100
TZNAME:CET
DTSTART:20251026T010000
END:STANDARD
BEGIN:DAYLIGHT
TZOFFSETFROM:+0100
TZOFFSETTO:+0200
TZNAME:CEST
DTSTART:20260329T010000
END:DAYLIGHT
BEGIN:STANDARD
TZOFFSETFROM:+0200
TZOFFSETTO:+0100
TZNAME:CET
DTSTART:20261025T010000
END:STANDARD
BEGIN:DAYLIGHT
TZOFFSETFROM:+0100
TZOFFSETTO:+0200
TZNAME:CEST
DTSTART:20270328T010000
END:DAYLIGHT
BEGIN:STANDARD
TZOFFSETFROM:+0200
TZOFFSETTO:+0100
TZNAME:CET
DTSTART:20271031T010000
END:STANDARD
END:VTIMEZONE
BEGIN:VEVENT
DTSTART;VALUE=DATE:20260427
DTEND;VALUE=DATE:20260430
DTSTAMP:20260425T142730
CREATED:20260226T153234Z
LAST-MODIFIED:20260226T153325Z
UID:4988-1777248000-1777507199@fairsorgen.at
SUMMARY:15. Armutskonferenz 2026
DESCRIPTION:28. & 29. April 2026 St. Virgil / Salzburg\nSelber schuld!\nArmut und die Leistungslüge\n\nBeginn: 28. April 2026 10.30h; Ende: 29. April 2026 14.00h \nVor!-Konferenzen \n\nIdeenreichtum – Vor!-Konferenz für junge Armutsforscher*innen: ab 27.4.2026 11.00h\nBetroffenen-Vor!-Konferenz: 27.4.2026 12.30–18.00h\nFrauen-Vor!-Konferenz: 27.4.2026 19.00–21.30h (mit FAIRsorgen!)\n\n__________________ \nViele Tätigkeiten\, die unsere Gesellschaft am Laufen halten\, sind schlecht bezahlt und wenig wertgeschätzt. Doch Sorgearbeit\, Kindererziehung\, Pflege und allgemeine Reproduktionsarbeit sind grundlegend für unser Arbeits- und Wirtschaftsleben. Ohne sie funktioniert keine Gesellschaft. Gleichzeitig zeigt sich: Wer erbt\, hat besserer Chancen. Status wird weniger durch Leistung erworben als vielmehr in der Geburtslotterie. Die Leistungslüge verdeckt diese Ungerechtigkeit\, indem sie Armut und Ungleichheit zu einem persönlichen Versagen erklärt. Dahinter verbirgt sich die unausgesprochene Annahme\, dass Menschen ihre Armut schon „verdient“ haben. \nArmut bekämpfen\, nicht die Armen \nBegriffe wie „Leistung“\, „Chancen“ oder „Kompetenzen“ (Literacy) werden missbraucht\, um soziale Ungleichheit in der Gesellschaft zu rechtfertigen. Die Verantwortung für gesellschaftliche Missstände wird auf Einzelne verlagert und die „Schuld“ alleine den Betroffenen zugeschrieben. Ausgeblendet werden hingegen politische\, wirtschaftliche und soziale Rahmenbedingungen\, die Armut hervorbringen und verfestigen. \nHier setzt die Konferenz an: Sie untersucht die Mechanismen\, die Armut individualisieren und Betroffene beschämen – und sucht gemeinsam nach Lösungen. Im Mittelpunkt steht die Forderung\, Armut konsequent zu bekämpfen – und nicht die Armen. \nProgramm: https://www.armutskonferenz.at/media/programm_15te_armutskonferenz_selber_schuld.pdf \nWerkstatt 8 wird gemeinsam mit FAIRsorgen! organisiert.
URL:https://fairsorgen.at/termin/armutskonferenz-2026/
LOCATION:Bildungs- und Konferenzentrum St. Virgil Salzburg\, Ernst-Grein-Straße 14\, Salzburg\, 5026
ATTACH;FMTTYPE=image/jpeg:https://fairsorgen.at/wp-content/uploads/2022/11/salzburg.jpg
END:VEVENT
BEGIN:VEVENT
DTSTART;TZID=Europe/Vienna:20260428T180000
DTEND;TZID=Europe/Vienna:20260428T200000
DTSTAMP:20260425T142730
CREATED:20260218T084735Z
LAST-MODIFIED:20260218T084829Z
UID:4955-1777399200-1777406400@fairsorgen.at
SUMMARY:Stimmen des Widerstands – Indigene Frauen gegen Umweltzerstörung
DESCRIPTION:Dienstag\, 28. April 2026\n18:00 bis 20:00 Uhr\nStephansplatz 6 / 6. Stock / Raum 604 \nStimmen des Widerstands – Indigene Frauen gegen Umweltzerstörung\n„Was tun\, wenn der Fluss\, der dich ernährt\, langsam stirbt?“ \nAm Rio Pilcomayo in Bolivien ist diese Frage für indigene Menschen bitterer Alltag. Der einst lebensspendende Fluss ist heute mit Schwermetallen\, Müll und Pestiziden belastet – und bedroht die Existenzgrundlage ganzer Gemeinschaften. Die Gewinnung von Metallen für die Produktion von elektronischen Geräten hat fatale Folgen für die Menschen und die Umwelt. \nDoch statt aufzugeben\, organisieren sich insbesondere die Frauen: Sie gründen Kollektive\, entwickeln nachhaltige Einkommensquellen und kämpfen für ihre Rechte. In unserem Workshop zeigen wir\, wie Organisationen wie CERDET\, ISALP\, indigene Gemeinschaften stärken – durch Bildung\, nachhaltige Landwirtschaft und den Kampf gegen strukturelle Ungerechtigkeit. \nAnmeldung bei Cristina Lanmüller-Romero: o.lanmueller-romero@edw.or.at \nveranstaltet von Welthaus Wien
URL:https://fairsorgen.at/termin/stimmen-des-widerstands-indigene-frauen-gegen-umweltzerstoerung/
LOCATION:Erzdiözese Wien\, Stephansplatz 6
ATTACH;FMTTYPE=image/jpeg:https://fairsorgen.at/wp-content/uploads/2022/11/wien.jpg
END:VEVENT
BEGIN:VEVENT
DTSTART;TZID=Europe/Vienna:20260505T170000
DTEND;TZID=Europe/Vienna:20260505T190000
DTSTAMP:20260425T142730
CREATED:20260405T174737Z
LAST-MODIFIED:20260407T105534Z
UID:5094-1778000400-1778007600@fairsorgen.at
SUMMARY:Lesekreis Aktionsgruppe Graz/Steiermark
DESCRIPTION:Die FAIRsorgen! Aktionsgruppe Graz/Steiermark lädt ein zum nächsten Lesekreis am: \nDienstag\, 5. Mai 2026\, 17:00 – 19:00 Uhr\nim Büro zur Rettung der Welt\, Mariahilfersraße 30\, 8020 GRAZ (Verein Stadtteilprojekt AnnenViertel) \nMit diesem Buch wollen wir uns genauer auseinandersetzen: \nShila Behjat: Frauen und Revolution      (Verlag: Hanser)\n\nRevolution ist längst nicht mehr nur Männersache!\nWeltweit stehen immer häufiger Frauen an der Spitze von Protestbewegungen: Vom Iran bis Belarus\, von Fridays for Future bis zu den großen Diskriminierungsdebatten kämpfen mutige Aktivistinnen für Freiheit\, Demokratie und Gleichberechtigung.\nShila Behjat spricht mit Anführerinnen der Bewegungen\, analysiert die Besonderheiten weiblichen Protests und zeigt\, was die Welt vom Mut dieser Frauen lernen kann.\nOb wir uns wirklich bereits am Beginn eines „weiblichen Zeitalters“ befinden? \n\nAlle Feminismus-\, Care- und Literatur-Interessierten sind herzlich eingeladen\, mit uns mitzudenken und mitzudiskutieren. \nUnser Motto: Das Schöne an einem Lesekreis ist\, dass man jedes Buch doppelt genießen kann: Zuerst bei der eigenen Lektüre und dann noch einmal im Austausch mit anderen Lese-Begeisterten 😊 \nWir freuen uns auf rege Teilnahme und eine interessante Diskussion. \nDie Teilnahme ist kostenlos. Hier geht’s zur Online-Anmeldung!
URL:https://fairsorgen.at/termin/lesekreis-aktionsgruppe-graz-steiermark_frauen_revolution/
LOCATION:Büro zur Rettung der Welt (Verein Stadtteilprojekt AnnenViertel)\, Mariahilfersraße 30\, Graz\, 8020
ATTACH;FMTTYPE=image/jpeg:https://fairsorgen.at/wp-content/uploads/2022/11/graz.jpg
END:VEVENT
BEGIN:VEVENT
DTSTART;TZID=Europe/Vienna:20260507T180000
DTEND;TZID=Europe/Vienna:20260507T200000
DTSTAMP:20260425T142730
CREATED:20260418T124921Z
LAST-MODIFIED:20260418T124921Z
UID:5113-1778176800-1778184000@fairsorgen.at
SUMMARY:FAIRsorgen! Wirtschaften fürs Leben
DESCRIPTION:FAIRsorgen! Wirtschaften fürs Leben. Stellt sich vor.\nWann: 7.5.2026\nWo: Cafe Wohnzimmer Kirchgasse 2 5760 Saalfelden\nDauer: 18 bis 20Uhr\n\n\nMit einem „Küchengespräch“ möchten wir Raum für Austausch schaffen für alle interessierten Menschen zu folgenden Themen:\n\nWas ist Sorgearbeit?\nWas bedeutet Care?\nBetrifft das nur Frauen?\nWarum ist es wichtig sich darüber Gedanken zu machen\, dass diese Arbeit oft un- oder unterbezahlt verrichtet wird?\n\nReferentin: Dipl.-Ing.(FH) MA Anja Kubuschok \n\n\n\nUm Anmeldung per Email an salzburg@fairsorgen.at wird gebeten\, natürlich darf jede*r auch spontan dazustoßen.
URL:https://fairsorgen.at/termin/fairsorgen-wirtschaften-fuers-leben/
LOCATION:Cafe Wohnzimmer \, Kirchgasse 2\, Saalfelden\, 5760 \, Austria
ATTACH;FMTTYPE=image/jpeg:https://fairsorgen.at/wp-content/uploads/2022/11/salzburg.jpg
END:VEVENT
BEGIN:VEVENT
DTSTART;TZID=Europe/Vienna:20260508T140000
DTEND;TZID=Europe/Vienna:20260508T200000
DTSTAMP:20260425T142730
CREATED:20260320T163032Z
LAST-MODIFIED:20260324T101528Z
UID:5049-1778248800-1778270400@fairsorgen.at
SUMMARY:Workshop "Stark Auftreten für Care-Gerechtigkeit!"
DESCRIPTION:Ein kreativer Workshop zum Mitreden\, Mitmischen & Aufstehen mit Dr.in Katharina Novy & Mag.a Margit Appel \nDie derzeitige Aufteilung der unbezahlten Care-Tätigkeiten zwischen den Geschlechtern\, schlechte Bezahlung und Arbeitsbedingungen in vielen Care-Berufen\, die mehrheitlich von Frauen getragene „Mental Load“ sowie die damit zusammenhängende Altersarmut von vielen Frauen haben strukturelle Ursachen und sind ungerecht. \nDas wissen wir.\nUnd doch zählt in Kommunikationssituationen oft nicht das „bessere“ sachliche Argument\, sondern Frauen werden entmutigt\, sich einzubringen. Ihnen wird weniger zugehört\, sie werden schnell mundtot gemacht\, eingeschüchtert. \nDieser Workshop soll ermutigen\, für Care-Gerechtigkeit aufzustehen\, einzustehen und zu argumentieren. \nMittels kreativer und spielerischer Methoden beschäftigen wir uns mit Fragen wie: \n\nWas passiert in solchen Kommunikationssituationen?\nWie können wir anders agieren?\nWie können wir einander stärken?\n\nDer erfahrungs- und reflexionsorientierte Prozess wird ergänzt durch anregende Inputs \n\nzu Care-Gerechtigkeit und\nzum Wissen um öffentliche und politische Kommunikation\n\nWANN?\n8. Mai 2026\, 14-20 Uhr \nWO?\narbeit plus Steiermark\, Kaiserfeldgasse 22/Top 10\, 8010 Graz | Hier geht’s zur Online-Anmeldung! \nDie Teilnahme ist kostenlos! \nEinladung als PDF \n  \n 
URL:https://fairsorgen.at/termin/workshop-stark-auftreten-fuer-care-gerechtigkeit-2/
LOCATION:arbeit plus\, Kaiserfeldgasse 22\, Graz
ATTACH;FMTTYPE=image/jpeg:https://fairsorgen.at/wp-content/uploads/2022/11/graz.jpg
END:VEVENT
BEGIN:VEVENT
DTSTART;TZID=Europe/Vienna:20260519T170000
DTEND;TZID=Europe/Vienna:20260519T190000
DTSTAMP:20260425T142730
CREATED:20251205T142514Z
LAST-MODIFIED:20251205T142514Z
UID:4848-1779210000-1779217200@fairsorgen.at
SUMMARY:Treffen Aktionsgruppe Graz/Steiermark
DESCRIPTION:Die FAIRsorgen! Aktionsgruppe Graz/Steiermark trifft sich zum monatlichen Austausch am \nDienstag\, 19. Mai 2026\n17:00 – 19:00 Uhr\nim Lokal „GATTO im Museum“\, Paulustorgasse 13a\, 8010 Graz. \nBei den Aktionsgruppe-Treffen spinnen wir gemeinsam Ideen für unsere FAIRsorgen! Aktionen und Veranstaltungen\, diskutieren wir mit Care-Arbeit in Zusammenhang stehende Themen\, die uns gerade beschäftigen\, und tauschen wir aktuelle Informationen rund um das breite Feld der bezahlten und unbezahlten Sorgearbeit aus.\nInteressierte sind herzlich eingeladen\, wir freuen uns auf dich! Schau vorbei! \nWenn du bereits im Vorfeld Informationen erhalten möchtest\, schick bitte einfach eine kurze Nachricht an stmk@fairsorgen.at . \n  \n 
URL:https://fairsorgen.at/termin/treffen-aktionsgruppe-graz-steiermark-26/
ATTACH;FMTTYPE=image/jpeg:https://fairsorgen.at/wp-content/uploads/2022/11/graz.jpg
END:VEVENT
BEGIN:VEVENT
DTSTART;TZID=Europe/Vienna:20260616T170000
DTEND;TZID=Europe/Vienna:20260616T190000
DTSTAMP:20260425T142730
CREATED:20251205T142838Z
LAST-MODIFIED:20251205T142935Z
UID:4850-1781629200-1781636400@fairsorgen.at
SUMMARY:Treffen Aktionsgruppe Graz/Steiermark
DESCRIPTION:Die FAIRsorgen! Aktionsgruppe Graz/Steiermark trifft sich zum monatlichen Austausch am \nDienstag\, 16. Juni 2026\n17:00 – 19:00 Uhr\nim Lokal „GATTO im Museum“\, Paulustorgasse 13a\, 8010 Graz. \nBei den Aktionsgruppe-Treffen spinnen wir gemeinsam Ideen für unsere FAIRsorgen! Aktionen und Veranstaltungen\, diskutieren wir mit Care-Arbeit in Zusammenhang stehende Themen\, die uns gerade beschäftigen\, und tauschen wir aktuelle Informationen rund um das breite Feld der bezahlten und unbezahlten Sorgearbeit aus.\nInteressierte sind herzlich eingeladen\, wir freuen uns auf dich! Schau vorbei! \nWenn du bereits im Vorfeld Informationen erhalten möchtest\, schick bitte einfach eine kurze Nachricht an stmk@fairsorgen.at . \n  \n 
URL:https://fairsorgen.at/termin/treffen-aktionsgruppe-graz-steiermark-27/
ATTACH;FMTTYPE=image/jpeg:https://fairsorgen.at/wp-content/uploads/2022/11/graz.jpg
END:VEVENT
END:VCALENDAR